BEGIN:VCALENDAR
VERSION:2.0
PRODID:-//ZContent.net//ZapCalLib 1.0//EN
CALSCALE:GREGORIAN
METHOD:PUBLISH
BEGIN:VEVENT
SUMMARY:Justifying Distortion: How Biologists Use Idealized Models to Expla
 in
LOCATION:Biology 136
TZID:America/Denver
DTSTART:20231206T160000
UID:2026-04-23-11-50-28@natsci.colostate.edu
DTSTAMP:20260423T115028
Description:In this talk\, I use examples from biology to argue against var
 ious attempts to justify idealizations by showing that they are harmless d
 istortions of irrelevant features. In response\, I argue that idealized mo
 dels ought to be characterized as holistically (i.e.\, pervasively) distor
 ted representations. I then suggest that the use of biological models can 
 be justified by universality. 4:00 pm
END:VEVENT
END:VCALENDAR
