BEGIN:VCALENDAR
VERSION:2.0
PRODID:-//ZContent.net//ZapCalLib 1.0//EN
CALSCALE:GREGORIAN
METHOD:PUBLISH
BEGIN:VEVENT
SUMMARY:Climate Change Responses: From Molecular Mechanisms to Ecological &
 amp; Evolutionary Consequences
LOCATION:Bio 136
TZID:America/Denver
DTSTART:20221004T160000
UID:2026-04-21-08-04-18@natsci.colostate.edu
DTSTAMP:20260421T080418
Description: 4:00 pm
END:VEVENT
END:VCALENDAR
