BEGIN:VCALENDAR
VERSION:2.0
PRODID:-//ZContent.net//ZapCalLib 1.0//EN
CALSCALE:GREGORIAN
METHOD:PUBLISH
BEGIN:VEVENT
SUMMARY:Between Species and Sexes: The Genetic Basis of Adaptive Traits in 
 African Cichlid Fishes
LOCATION:Biology 136
TZID:America/Denver
DTSTART:20250325T160000
UID:2026-04-21-01-49-08@natsci.colostate.edu
DTSTAMP:20260421T014908
Description:You are invited to attend an upcoming seminar featuring Dr. Emi
 ly Moore\, Assistant Professor at the University of Nebraska-Lincoln. Dr. 
 Moore will present \"Between Species and Sexes: The Genetic Basis of Adapt
 ive Traits in African Cichlid Fishes\,\" examining how genetic mechanisms 
 drive adaptation across species and sexes.\n\nDate: Tuesday\, March 25\, 2
 025\nTime: 4:00 PM – 5:00 PM\nLocation: Biology 136\n\nHosted by Dr. Kat
 e Wilsterman\, this seminar will explore the genetic foundations of evolut
 ionary adaptation\, providing insights into the broader implications for e
 volutionary biology\, bioengineering\, and molecular genetics.\n\nWhy Atte
 nd?\n\n 	Current Research – Gain insights into the latest discoveries in
  genetic adaptation and species evolution.\n 	Academic Engagement – Conn
 ect with faculty\, researchers\, and students with shared interests in evo
 lutionary genetics.\n 	Broader Impact – Learn how genetic variation cont
 ributes to adaptation\, biodiversity\, and applied biological sciences.\n\
 nSee the attached flyer and below for more details and visit our website f
 or more information on our seminars.\n\nFollow us on social media for more
  announcements from Biology.\n\n 	Instagram: @csubio\n 	Twitter/X: @csubio
 logy\n 	Facebook: Department of Biology at Colorado State University\n\nWe
  look forward to seeing you there!\n\n 4:00 pm
END:VEVENT
END:VCALENDAR
