BEGIN:VCALENDAR
VERSION:2.0
PRODID:-//ZContent.net//ZapCalLib 1.0//EN
CALSCALE:GREGORIAN
METHOD:PUBLISH
BEGIN:VEVENT
SUMMARY:Red queen and the lost boys: The role of RNAi in defending sex chro
 mosome conflict
LOCATION:Bio 136
TZID:America/Denver
DTSTART:20220927T160000
UID:2026-04-22-16-12-34@natsci.colostate.edu
DTSTAMP:20260422T161234
Description: 4:00 pm
END:VEVENT
END:VCALENDAR
