BEGIN:VCALENDAR
VERSION:2.0
PRODID:-//ZContent.net//ZapCalLib 1.0//EN
CALSCALE:GREGORIAN
METHOD:PUBLISH
BEGIN:VEVENT
SUMMARY:Contemporary Evolution and Adaptive Divergence in Open Ocean Enviro
 nments: New Insights and Applications to Fisheries Management
LOCATION:Bio 136
TZID:America/Denver
DTSTART:20211019T160000
UID:2026-04-24-17-35-28@natsci.colostate.edu
DTSTAMP:20260424T173528
Description:\nContemporary Evolution and Adaptive Divergence in Open Ocean 
 Environments: New Insights and Applications to Fisheries Management\n&nbsp
 \; 4:00 pm
END:VEVENT
END:VCALENDAR
