BEGIN:VCALENDAR
VERSION:2.0
PRODID:-//ZContent.net//ZapCalLib 1.0//EN
CALSCALE:GREGORIAN
METHOD:PUBLISH
BEGIN:VEVENT
SUMMARY:Beautiful shades of brown – illuminating light harvesting in aqua
 tic photosynthesis
LOCATION:Bio 136
TZID:America/Denver
DTSTART:20220928T160000
UID:2026-04-23-02-33-21@natsci.colostate.edu
DTSTAMP:20260423T023321
Description: 4:00 pm
END:VEVENT
END:VCALENDAR
