BEGIN:VCALENDAR
VERSION:2.0
PRODID:-//ZContent.net//ZapCalLib 1.0//EN
CALSCALE:GREGORIAN
METHOD:PUBLISH
BEGIN:VEVENT
SUMMARY:Life at the Extremes: Mechanisms of Mutation and Repair in Organell
 e Genomes
LOCATION:Yates 208
TZID:America/Denver
DTSTART:20240321T080000
UID:2026-04-20-23-08-14@natsci.colostate.edu
DTSTAMP:20260420T230814
Description: 8:00 am
END:VEVENT
END:VCALENDAR
