BEGIN:VCALENDAR
VERSION:2.0
PRODID:-//ZContent.net//ZapCalLib 1.0//EN
CALSCALE:GREGORIAN
METHOD:PUBLISH
BEGIN:VEVENT
SUMMARY:Using Deep Learning to Study Biodiversity
LOCATION:Biology 136
TZID:America/Denver
DTSTART:20250204T160000
UID:2026-04-26-03-46-14@natsci.colostate.edu
DTSTAMP:20260426T034614
Description:We are pleased to invite you to our first seminar of Spring 202
 5 is Tuesday\, Feb. 4th. Join us at 4 PM in Biology 136 as we welcome Dr. 
 Marek Borowiec from the CSU Department of Agricultural Biology\, who will 
 be presenting his seminar titled: “Using Deep Learning to Study Biodiver
 sity”.\n\nDon’t miss this fascinating discussion! As always\, we’ll 
 have snacks and drinks provided to fuel the conversation.\n\nSee the flyer
  below for more details and visit our website for more information on our 
 seminars.\n\nFollow us on social media for more announcements from Biology
 .\n\n 	Instagram: @csubio\n 	Twitter/X: @csubiology\n 	Facebook: Departmen
 t of Biology at Colorado State University\n\nWe hope to see you there to s
 how support for our first speaker of the spring season!\n\n 4:00 pm
END:VEVENT
END:VCALENDAR
