BEGIN:VCALENDAR
VERSION:2.0
PRODID:-//ZContent.net//ZapCalLib 1.0//EN
CALSCALE:GREGORIAN
METHOD:PUBLISH
BEGIN:VEVENT
SUMMARY:Organismal Responses to a Variable Climate
LOCATION:Biology 136
TZID:America/Denver
DTSTART:20231024T160000
UID:2026-04-20-20-17-46@natsci.colostate.edu
DTSTAMP:20260420T201746
Description: 4:00 pm
END:VEVENT
END:VCALENDAR
