BEGIN:VCALENDAR
VERSION:2.0
PRODID:-//ZContent.net//ZapCalLib 1.0//EN
CALSCALE:GREGORIAN
METHOD:PUBLISH
BEGIN:VEVENT
SUMMARY:Behavior is a Motor and a Brake for Evolution
LOCATION:Bio 136
TZID:America/Denver
DTSTART:20230221T160000
UID:2026-04-20-16-44-07@natsci.colostate.edu
DTSTAMP:20260420T164407
Description: 4:00 pm
END:VEVENT
END:VCALENDAR
