BEGIN:VCALENDAR
VERSION:2.0
PRODID:-//ZContent.net//ZapCalLib 1.0//EN
CALSCALE:GREGORIAN
METHOD:PUBLISH
BEGIN:VEVENT
SUMMARY:Sexual Signals &amp; Divergence in Australian Fairywrens: From Gene
 s to Behavior to Speciation
LOCATION:Bio 136
TZID:America/Denver
DTSTART:20221025T160000
UID:2026-04-21-12-00-14@natsci.colostate.edu
DTSTAMP:20260421T120014
Description: 4:00 pm
END:VEVENT
END:VCALENDAR
