BEGIN:VCALENDAR
VERSION:2.0
PRODID:-//ZContent.net//ZapCalLib 1.0//EN
CALSCALE:GREGORIAN
METHOD:PUBLISH
BEGIN:VEVENT
SUMMARY:Grassland Responses to Seasonal Shifts in Water Availability
LOCATION:Yates 306
TZID:America/Denver
DTSTART:20230321T140000
UID:2026-04-23-06-24-35@natsci.colostate.edu
DTSTAMP:20260423T062435
Description: 2:00 pm
END:VEVENT
END:VCALENDAR
