BEGIN:VCALENDAR
VERSION:2.0
PRODID:-//ZContent.net//ZapCalLib 1.0//EN
CALSCALE:GREGORIAN
METHOD:PUBLISH
BEGIN:VEVENT
SUMMARY:PhD Seminar
LOCATION:Biology Building, Room 136
TZID:America/Denver
DTSTART:20181101T000000
UID:2026-04-25-12-43-01@natsci.colostate.edu
DTSTAMP:20260425T124301
Description: 4:00 pm
END:VEVENT
END:VCALENDAR
