BEGIN:VCALENDAR
VERSION:2.0
PRODID:-//ZContent.net//ZapCalLib 1.0//EN
CALSCALE:GREGORIAN
METHOD:PUBLISH
BEGIN:VEVENT
SUMMARY:The Long &amp; Short of Non-coding RNAs in Gene Regulation and Anim
 al Lifespan
LOCATION:Biology Auditorium 136
TZID:America/Denver
DTSTART:20182001T000000
UID:2026-04-23-18-02-17@natsci.colostate.edu
DTSTAMP:20260423T180217
Description: 4:00 pm
END:VEVENT
END:VCALENDAR
