BEGIN:VCALENDAR
VERSION:2.0
PRODID:-//ZContent.net//ZapCalLib 1.0//EN
CALSCALE:GREGORIAN
METHOD:PUBLISH
BEGIN:VEVENT
SUMMARY:Insect diapause as a model for the evolution of seasonal synchrony 
 over short and long evolutionary time scales
LOCATION:Biology Auditorium 136
TZID:America/Denver
DTSTART:20183201T000000
UID:2026-04-22-19-45-58@natsci.colostate.edu
DTSTAMP:20260422T194558
Description: 4:00 pm
END:VEVENT
END:VCALENDAR
