BEGIN:VCALENDAR
VERSION:2.0
PRODID:-//ZContent.net//ZapCalLib 1.0//EN
CALSCALE:GREGORIAN
METHOD:PUBLISH
BEGIN:VEVENT
SUMMARY:Programming Cells: Genetic Circuit Design Automation
LOCATION:Biology Auditorium 136
TZID:America/Denver
DTSTART:20184001T000000
UID:2026-04-21-11-40-56@natsci.colostate.edu
DTSTAMP:20260421T114056
Description: 4:00 pm
END:VEVENT
END:VCALENDAR
