BEGIN:VCALENDAR
VERSION:2.0
PRODID:-//ZContent.net//ZapCalLib 1.0//EN
CALSCALE:GREGORIAN
METHOD:PUBLISH
BEGIN:VEVENT
SUMMARY:Small RNA Pathways as Epigenetic Architects: Guarding the Genome an
 d Defending Development
LOCATION:Biology Auditorium 136
TZID:America/Denver
DTSTART:20184101T000000
UID:2026-04-22-19-07-32@natsci.colostate.edu
DTSTAMP:20260422T190732
Description: 4:00 pm
END:VEVENT
END:VCALENDAR
