BEGIN:VCALENDAR
VERSION:2.0
PRODID:-//ZContent.net//ZapCalLib 1.0//EN
CALSCALE:GREGORIAN
METHOD:PUBLISH
BEGIN:VEVENT
SUMMARY:Microbial Responses in a Changing World
LOCATION:Bio 136
TZID:America/Denver
DTSTART:20230502T160000
UID:2026-04-22-23-46-39@natsci.colostate.edu
DTSTAMP:20260422T234639
Description: 4:00 pm
END:VEVENT
END:VCALENDAR
