BEGIN:VCALENDAR
VERSION:2.0
PRODID:-//ZContent.net//ZapCalLib 1.0//EN
CALSCALE:GREGORIAN
METHOD:PUBLISH
BEGIN:VEVENT
SUMMARY:Day and night: The metabolic adjustments required for algae to surv
 ive variable light
LOCATION:Anatomy/Zoology Building W118
TZID:America/Denver
DTSTART:20160101T000000
UID:2026-04-22-19-07-07@natsci.colostate.edu
DTSTAMP:20260422T190707
Description: 4:00 pm
END:VEVENT
END:VCALENDAR
