BEGIN:VCALENDAR
VERSION:2.0
PRODID:-//ZContent.net//ZapCalLib 1.0//EN
CALSCALE:GREGORIAN
METHOD:PUBLISH
BEGIN:VEVENT
SUMMARY:Selfish evolution in monkeyflowers
LOCATION:Anatomy/Zoology Building W118
TZID:America/Denver
DTSTART:20160201T000000
UID:2026-04-23-15-20-18@natsci.colostate.edu
DTSTAMP:20260423T152018
Description: 4:00 pm
END:VEVENT
END:VCALENDAR
