BEGIN:VCALENDAR
VERSION:2.0
PRODID:-//ZContent.net//ZapCalLib 1.0//EN
CALSCALE:GREGORIAN
METHOD:PUBLISH
BEGIN:VEVENT
SUMMARY:Biotic interactions in the marine environment: from endosymbiosis t
 o horizontal gene transfer
LOCATION:Anatomy/Zoology Building W118
TZID:America/Denver
DTSTART:20161001T000000
UID:2026-04-23-03-31-32@natsci.colostate.edu
DTSTAMP:20260423T033132
Description: 4:00 pm
END:VEVENT
END:VCALENDAR
