BEGIN:VCALENDAR
VERSION:2.0
PRODID:-//ZContent.net//ZapCalLib 1.0//EN
CALSCALE:GREGORIAN
METHOD:PUBLISH
BEGIN:VEVENT
SUMMARY:Chromosomal and RNA-medieted mechanisms of selective gene silencing
LOCATION:Anatomy/Zoology Building W118
TZID:America/Denver
DTSTART:20172001T000000
UID:2026-04-21-08-05-58@natsci.colostate.edu
DTSTAMP:20260421T080558
Description: 4:00 pm
END:VEVENT
END:VCALENDAR
