BEGIN:VCALENDAR
VERSION:2.0
PRODID:-//ZContent.net//ZapCalLib 1.0//EN
CALSCALE:GREGORIAN
METHOD:PUBLISH
BEGIN:VEVENT
SUMMARY:Songs for sex: Shared neural circuits for song production and mate 
 choice
LOCATION:Anatomy/Zoology Building W118
TZID:America/Denver
DTSTART:20172201T000000
UID:2026-04-20-16-52-14@natsci.colostate.edu
DTSTAMP:20260420T165214
Description: 4:00 pm
END:VEVENT
END:VCALENDAR
