BEGIN:VCALENDAR
VERSION:2.0
PRODID:-//ZContent.net//ZapCalLib 1.0//EN
CALSCALE:GREGORIAN
METHOD:PUBLISH
BEGIN:VEVENT
SUMMARY:THE MEANING OF STRUCTURAL DYNAMICS IN PHOTOSYNTHETIC THYLAKOID MEMB
 RANES: FROM MOLECULES TO MEMBRANES
LOCATION:Biology Auditorium 136
TZID:America/Denver
DTSTART:20179101T000000
UID:2026-04-22-19-07-22@natsci.colostate.edu
DTSTAMP:20260422T190722
Description:PDF Flyer 4:00 pm
END:VEVENT
END:VCALENDAR
