BEGIN:VCALENDAR
VERSION:2.0
PRODID:-//ZContent.net//ZapCalLib 1.0//EN
CALSCALE:GREGORIAN
METHOD:PUBLISH
BEGIN:VEVENT
SUMMARY:What the frog&#8217;s brain tells the frog&#8217;s libido: sexual s
 election and communication in Tungara frogs
LOCATION:Anatomy/Zoology Building W118
TZID:America/Denver
DTSTART:20133201T000000
UID:2026-04-20-16-44-07@natsci.colostate.edu
DTSTAMP:20260420T164407
Description:Sexual selection favors the evolution of traits that  enhance 
 the attractiveness of males to females. Attractiveness depends on percepti
 on.  We have been studying various aspects of the neural and cognitive sy
 stems of frogs that bias what traits they find attractive\, and thus drive
  the evolution of diversity under sexual selection. 4:00 pm
END:VEVENT
END:VCALENDAR
