BEGIN:VCALENDAR
VERSION:2.0
PRODID:-//ZContent.net//ZapCalLib 1.0//EN
CALSCALE:GREGORIAN
METHOD:PUBLISH
BEGIN:VEVENT
SUMMARY:Human and biological drivers of atmospheric greenhouse gas composit
 ion
LOCATION:Biology Auditorium 136
TZID:America/Denver
DTSTART:20170101T000000
UID:2026-04-23-00-47-45@natsci.colostate.edu
DTSTAMP:20260423T004745
Description: 4:00 pm
END:VEVENT
END:VCALENDAR
