BEGIN:VCALENDAR
VERSION:2.0
PRODID:-//ZContent.net//ZapCalLib 1.0//EN
CALSCALE:GREGORIAN
METHOD:PUBLISH
BEGIN:VEVENT
SUMMARY:TBD
LOCATION:Biology Building, Room 136
TZID:America/Denver
DTSTART:20194001T000000
UID:2026-04-22-13-41-17@natsci.colostate.edu
DTSTAMP:20260422T134117
Description: 4:00 pm
END:VEVENT
END:VCALENDAR
