BEGIN:VCALENDAR
VERSION:2.0
PRODID:-//ZContent.net//ZapCalLib 1.0//EN
CALSCALE:GREGORIAN
METHOD:PUBLISH
BEGIN:VEVENT
SUMMARY:The Physiology at the Extremes Lab: Current and Future Projects
LOCATION:Biology Auditorium 136
TZID:America/Denver
DTSTART:20170001T000000
UID:2026-04-21-05-29-06@natsci.colostate.edu
DTSTAMP:20260421T052906
Description: 4:00 pm
END:VEVENT
END:VCALENDAR
