BEGIN:VCALENDAR
VERSION:2.0
PRODID:-//ZContent.net//ZapCalLib 1.0//EN
CALSCALE:GREGORIAN
METHOD:PUBLISH
BEGIN:VEVENT
SUMMARY:Tiny RNAs, big roles
LOCATION:Biology Building, Room 136
TZID:America/Denver
DTSTART:20180101T000000
UID:2026-04-22-16-15-13@natsci.colostate.edu
DTSTAMP:20260422T161513
Description: 4:00 pm
END:VEVENT
END:VCALENDAR
