BEGIN:VCALENDAR
VERSION:2.0
PRODID:-//ZContent.net//ZapCalLib 1.0//EN
CALSCALE:GREGORIAN
METHOD:PUBLISH
BEGIN:VEVENT
SUMMARY:T&amp;P Seminar
LOCATION:Biology Building, Room 136
TZID:America/Denver
DTSTART:20180001T000000
UID:2026-04-20-21-02-19@natsci.colostate.edu
DTSTAMP:20260420T210219
Description: 4:00 pm
END:VEVENT
END:VCALENDAR
