BEGIN:VCALENDAR
VERSION:2.0
PRODID:-//ZContent.net//ZapCalLib 1.0//EN
CALSCALE:GREGORIAN
METHOD:PUBLISH
BEGIN:VEVENT
SUMMARY:Visualizing a Global System for Conserving Crop Diversity
LOCATION:Grey Rock Room, Lory Student Center
TZID:America/Denver
DTSTART:20140201T000000
UID:2026-04-25-03-08-28@natsci.colostate.edu
DTSTAMP:20260425T030828
Description:CSU’s 15th Annual Thornton-Mass Lecturer will present a semin
 ar to our research community 4:00 pm
END:VEVENT
END:VCALENDAR
