BEGIN:VCALENDAR
VERSION:2.0
PRODID:-//ZContent.net//ZapCalLib 1.0//EN
CALSCALE:GREGORIAN
METHOD:PUBLISH
BEGIN:VEVENT
SUMMARY:Photoprotection from Seconds to Seasons
LOCATION:Biology 136
TZID:America/Denver
DTSTART:20230926T160000
UID:2026-04-22-10-17-01@natsci.colostate.edu
DTSTAMP:20260422T101701
Description: 4:00 pm
END:VEVENT
END:VCALENDAR
